BEGIN:VCALENDAR
VERSION:2.0
PRODID:-//Ordre des masseurs-kinésithérapeutes de Dordogne - ECPv6.15.20//NONSGML v1.0//EN
CALSCALE:GREGORIAN
METHOD:PUBLISH
X-ORIGINAL-URL:https://www.ordremk24.fr
X-WR-CALDESC:Évènements pour Ordre des masseurs-kinésithérapeutes de Dordogne
REFRESH-INTERVAL;VALUE=DURATION:PT1H
X-Robots-Tag:noindex
X-PUBLISHED-TTL:PT1H
BEGIN:VTIMEZONE
TZID:Europe/Paris
BEGIN:DAYLIGHT
TZOFFSETFROM:+0100
TZOFFSETTO:+0200
TZNAME:CEST
DTSTART:20250330T010000
END:DAYLIGHT
BEGIN:STANDARD
TZOFFSETFROM:+0200
TZOFFSETTO:+0100
TZNAME:CET
DTSTART:20251026T010000
END:STANDARD
BEGIN:DAYLIGHT
TZOFFSETFROM:+0100
TZOFFSETTO:+0200
TZNAME:CEST
DTSTART:20260329T010000
END:DAYLIGHT
BEGIN:STANDARD
TZOFFSETFROM:+0200
TZOFFSETTO:+0100
TZNAME:CET
DTSTART:20261025T010000
END:STANDARD
BEGIN:DAYLIGHT
TZOFFSETFROM:+0100
TZOFFSETTO:+0200
TZNAME:CEST
DTSTART:20270328T010000
END:DAYLIGHT
BEGIN:STANDARD
TZOFFSETFROM:+0200
TZOFFSETTO:+0100
TZNAME:CET
DTSTART:20271031T010000
END:STANDARD
END:VTIMEZONE
BEGIN:VEVENT
DTSTART;TZID=Europe/Paris:20260401T140000
DTEND;TZID=Europe/Paris:20260401T173000
DTSTAMP:20260423T051421
CREATED:20260207T190845Z
LAST-MODIFIED:20260207T194903Z
UID:9342-1775052000-1775064600@www.ordremk24.fr
SUMMARY:Permanence des conseillers ordinaux
DESCRIPTION:Les conseillers ordinaux assurent une permanence mensuelle dans les locaux de l’Ordre à Périgueux\, sur rendez-vous uniquement \n\n\n\n\n\n\n\n \n\n\n\n\n\n				Imprimer(ouvre dans une nouvelle fenêtre)\n				Imprimer\n			\n				Envoyer un lien par e-mail à un ami(ouvre dans une nouvelle fenêtre)\n				E-mail\n			\n				Partager sur WhatsApp(ouvre dans une nouvelle fenêtre)\n				WhatsApp\n			\n				Partager sur X(ouvre dans une nouvelle fenêtre)\n				X\n			\n				Partager sur Facebook(ouvre dans une nouvelle fenêtre)\n				Facebook\n			\n				Partager sur Instagram(ouvre dans une nouvelle fenêtre)\n				Instagram\n			\n				Partager sur LinkedIn(ouvre dans une nouvelle fenêtre)\n				LinkedIn
URL:https://www.ordremk24.fr/event/9342
LOCATION:4 Avenue Georges Saumande Périgueux
CATEGORIES:Permanence des conseillers ordinaux
END:VEVENT
BEGIN:VEVENT
DTSTART;TZID=Europe/Paris:20260401T173000
DTEND;TZID=Europe/Paris:20260401T193000
DTSTAMP:20260423T051421
CREATED:20260207T191056Z
LAST-MODIFIED:20260207T195242Z
UID:9344-1775064600-1775071800@www.ordremk24.fr
SUMMARY:Séance plénière du Conseil de l'Ordre
DESCRIPTION:t \n\n\n\n\n\n\n\n\n\n \n\n\n\n\n\n				Imprimer(ouvre dans une nouvelle fenêtre)\n				Imprimer\n			\n				Envoyer un lien par e-mail à un ami(ouvre dans une nouvelle fenêtre)\n				E-mail\n			\n				Partager sur WhatsApp(ouvre dans une nouvelle fenêtre)\n				WhatsApp\n			\n				Partager sur X(ouvre dans une nouvelle fenêtre)\n				X\n			\n				Partager sur Facebook(ouvre dans une nouvelle fenêtre)\n				Facebook\n			\n				Partager sur Instagram(ouvre dans une nouvelle fenêtre)\n				Instagram\n			\n				Partager sur LinkedIn(ouvre dans une nouvelle fenêtre)\n				LinkedIn
URL:https://www.ordremk24.fr/event/9344
LOCATION:4 Avenue Georges Saumande Périgueux
CATEGORIES:Séance plénière
END:VEVENT
END:VCALENDAR